BEGIN:VCALENDAR
VERSION:2.0
PRODID:-//Tukios.com/
BEGIN:VEVENT
UID:0b5dec9f-e0c5-4054-9fdb-25bd1453f2be@www.hockadayfs.com
DTSTAMP:20260421T233028Z
DTSTART:20260424T220000Z
DTEND:20260425T000000Z
SUMMARY:Visitation
DESCRIPTION:
URL:https://www.hockadayfs.com/obituaries/karen-jean-lassiter
LOCATION: 507 US Highway 158  Roanoke Rapids NC 27870
GEO:36.4432697;-77.6781252
END:VEVENT
END:VCALENDAR