BEGIN:VCALENDAR
VERSION:2.0
PRODID:-//Tukios.com/
BEGIN:VEVENT
UID:309e5a32-f456-423a-9004-fd0e7a7f7ce9@www.hockadayfs.com
DTSTAMP:20260421T233302Z
DTSTART:20260425T170000Z
DTEND:20260425T180000Z
SUMMARY:Graveside Service
DESCRIPTION:
URL:https://www.hockadayfs.com/obituaries/karen-jean-lassiter
LOCATION:Cedarwood Cemetery 1100 W 4th St  Roanoke Rapids NC 27870
GEO:36.4698323;-77.6655123
END:VEVENT
END:VCALENDAR